BEGIN:VCALENDAR
VERSION:2.0
PRODID:-//Indian Health Center - ECPv6.15.20//NONSGML v1.0//EN
CALSCALE:GREGORIAN
METHOD:PUBLISH
X-ORIGINAL-URL:https://indianhealthcenter.org
X-WR-CALDESC:Events for Indian Health Center
REFRESH-INTERVAL;VALUE=DURATION:PT1H
X-Robots-Tag:noindex
X-PUBLISHED-TTL:PT1H
BEGIN:VTIMEZONE
TZID:America/Los_Angeles
BEGIN:DAYLIGHT
TZOFFSETFROM:-0800
TZOFFSETTO:-0700
TZNAME:PDT
DTSTART:20250309T100000
END:DAYLIGHT
BEGIN:STANDARD
TZOFFSETFROM:-0700
TZOFFSETTO:-0800
TZNAME:PST
DTSTART:20251102T090000
END:STANDARD
BEGIN:DAYLIGHT
TZOFFSETFROM:-0800
TZOFFSETTO:-0700
TZNAME:PDT
DTSTART:20260308T100000
END:DAYLIGHT
BEGIN:STANDARD
TZOFFSETFROM:-0700
TZOFFSETTO:-0800
TZNAME:PST
DTSTART:20261101T090000
END:STANDARD
BEGIN:DAYLIGHT
TZOFFSETFROM:-0800
TZOFFSETTO:-0700
TZNAME:PDT
DTSTART:20270314T100000
END:DAYLIGHT
BEGIN:STANDARD
TZOFFSETFROM:-0700
TZOFFSETTO:-0800
TZNAME:PST
DTSTART:20271107T090000
END:STANDARD
END:VTIMEZONE
BEGIN:VEVENT
DTSTART;TZID=America/Los_Angeles:20260515T180000
DTEND;TZID=America/Los_Angeles:20260515T190000
DTSTAMP:20260425T033108
CREATED:20260414T181733Z
LAST-MODIFIED:20260414T181733Z
UID:10167680-1778868000-1778871600@indianhealthcenter.org
SUMMARY:MMIP Self Defense Class
DESCRIPTION:5/15 MMIP Self Defense Class\nBirch and Iron at 6:00 pm\n(sign up needed – only 20 slots available) \n  \n5/28 San Francisco Report Back\nAmerican Indian Cultural Center @ 6pm\nGrace Fellowship Community Church\n3265 16th St San Francisco\, CA 94103 \n  \nContent warning: Report backs include findings on missing and murdered relatives\, sexual assault\, sex trafficking and other forms of violence. \n———————————————————————————- \nFor questions regarding the report out events\, please contact Anecita Miller at miller@ihcscv.org \nTo receive the link to sign up for the MMIP Self Defense class\, please contact Teresa Yolotl Gomez age teresagomez@ihcscv.org
URL:https://indianhealthcenter.org/event/mmip-self-defense-class/2026-05-15/
LOCATION:Birch and Iron\, 1525 Meridian Ave\, San Jose\, CA\, 95126\, United States
ATTACH;FMTTYPE=image/png:https://indianhealthcenter.org/wp-content/uploads/unnamed-3-4.png
END:VEVENT
END:VCALENDAR